BEGIN:VCALENDAR
VERSION:2.0
PRODID:-//eventon.com NONSGML v1.0//EN
CALSCALE:GREGORIAN
METHOD:PUBLISH
BEGIN:VEVENT
UID:69ecd1927a534
DTSTAMP:20260425T143706Z
DTSTART:20260424T210000Z
DTEND:20260424T230000Z
LOCATION:PIANO B Contrada Pozzo dell'Olmo\,  38\,  25122 Brescia BS
SUMMARY:MIA TAT GIPSY - LIVE PIANO B
DESCRIPTION:MIA TAT GIPSY   Live Venerdi 24 Aprile 2026  al PIANO B in C
 ontrada Pozzo dell&#8217;Olmo\,  38\,  25122 Brescia (BS). Musica Live Bres
 cia Genere: Jazz\nhttps://bandtop.it/events/mia-tat-gipsy-live-piano-b/
URL:https://bandtop.it/events/mia-tat-gipsy-live-piano-b/
END:VEVENT
END:VCALENDAR