BEGIN:VCALENDAR
VERSION:2.0
PRODID:-//eventon.com NONSGML v1.0//EN
CALSCALE:GREGORIAN
METHOD:PUBLISH
BEGIN:VEVENT
UID:69eb783fa6ef2
DTSTAMP:20260424T140343Z
DTSTART:20260426T210000Z
DTEND:20260426T235900Z
LOCATION:ROCK'N' ROLL MILANO Via Giuseppe Bruschetti\,  11\,  20125 Milano MI
SUMMARY:UTOPIA FILEZ+  THE RAWSTRINGS + HIGHLANDERS +NOVABLUE - LIVE ROCK'N' ROLL MILANO
DESCRIPTION:UTOPIA FILEZ + THE RAWSTRINGS + HIGHLANDERS + NOVABLUE Live Dom
 enica 26 Aprile 2026 al ROCK&#8217;N&#8217; ROLL MILANO in Via Giuseppe Bru
 schetti\,  11\,  20125 Milano (MI). EVENTO: MUSICA LIVE MILANO GENERE: Rock
  INGRESSO GRATUITO &nbsp;\nhttps://bandtop.it/events/utopia-filez-the-rawst
 rings-highlanders-novablue-live-rockn-roll-milano/
URL:https://bandtop.it/events/utopia-filez-the-rawstrings-highlanders-novablue-live-rockn-roll-milano/
END:VEVENT
END:VCALENDAR