BEGIN:VCALENDAR
VERSION:2.0
PRODID:-//eventon.com NONSGML v1.0//EN
CALSCALE:GREGORIAN
METHOD:PUBLISH
BEGIN:VEVENT
UID:69eb7b10f186c
DTSTAMP:20260424T141544Z
DTSTART:20260501T214500Z
DTEND:20260501T235900Z
LOCATION:BIRRERIA ANIMA Via Marsala\,  27\,  36027 Rosà VI
SUMMARY:COLT 45 - LIVE BIRRERIA ANIMA
DESCRIPTION:COLT 45   Rock machine Live venerdi 1 Maggio 2026 alla BIRRE
 RIA ANIMA in Via Marsala\,  25\,  36027 Rosà (VI). Musica Live Vicenza Gen
 ere:  Rock &nbsp;\nhttps://bandtop.it/events/concerti-vicenza-colt-45-birr
 eria-anima-rock-1-maggio-2026/
URL:https://bandtop.it/events/concerti-vicenza-colt-45-birreria-anima-rock-1-maggio-2026/
END:VEVENT
END:VCALENDAR