BEGIN:VCALENDAR
VERSION:2.0
PRODID:-//eventon.com NONSGML v1.0//EN
CALSCALE:GREGORIAN
METHOD:PUBLISH
BEGIN:VEVENT
UID:69eb7d914abdd
DTSTAMP:20260424T142625Z
DTSTART:20260425T220000Z
DTEND:20260425T235900Z
LOCATION:UFO Via dell'Industria\,  4\,  24030 Mozzo BG
SUMMARY:GREEN IDIOT - LIVE UFO
DESCRIPTION:GREEN IDIOT  Tributo ai  Green Day Live Sabato 25 Aprile 2026
   all&#8217; UFO in Via dell&#8217;Industria\,  4\,  24030 Mozzo (BG). Mus
 ica Live Bergamo Genere: Tributo ai  Green Day &nbsp;\nhttps://bandtop.it/
 events/green-idiot-live-ufo/
URL:https://bandtop.it/events/green-idiot-live-ufo/
END:VEVENT
END:VCALENDAR