BEGIN:VCALENDAR
VERSION:2.0
PRODID:-//eventon.com NONSGML v1.0//EN
CALSCALE:GREGORIAN
METHOD:PUBLISH
BEGIN:VEVENT
UID:69eb780b70f74
DTSTAMP:20260424T140251Z
DTSTART:20260424T220000Z
DTEND:20260424T235900Z
LOCATION:UFO Via dell'Industria\,  4\,  24030 Mozzo BG
SUMMARY:SEHNSUCHT - LIVE UFO
DESCRIPTION:SEHNSUCHT Tributo ai  RAMMSTEIN Live Venerdi 24 Aprile 2026  
 all&#8217; UFO in Via dell&#8217;Industria\,  4\,  24030 Mozzo (BG). Musica
  Live Bergamo Genere: Tributo ai  RAMMSTEIN &nbsp;\nhttps://bandtop.it/eve
 nts/sehnsucht-live-ufo-3/
URL:https://bandtop.it/events/sehnsucht-live-ufo-3/
END:VEVENT
END:VCALENDAR