BEGIN:VCALENDAR
VERSION:2.0
PRODID:-//eventon.com NONSGML v1.0//EN
CALSCALE:GREGORIAN
METHOD:PUBLISH
BEGIN:VEVENT
UID:69eb77e82e985
DTSTAMP:20260424T140216Z
DTSTART:20260424T210000Z
DTEND:20260424T233000Z
LOCATION:BLAH BLAH Via Po\,  21\,  10124 Torino TO
SUMMARY:LUCA ARDUINI TRIO - LIVE BLAH BLAH
DESCRIPTION:LUCA ARDUINI TRIO  Live Venerdi 24 Aprile 2026 al BLAH BLAH in
   Via Po\,  21\,  10124 Torino (TO). Luca Arduini presenta per la prima vo
 lta a Torino il suo nuovo EP “Le fiabe del Mattino” pubblicato il 12 di
 cembre 2025 via Blue Mama Records (The Orchard/Sony Music Italy). Ingresso 
 8[..]\nhttps://bandtop.it/events/luca-arduini-trio-live-blah-blah/
URL:https://bandtop.it/events/luca-arduini-trio-live-blah-blah/
END:VEVENT
END:VCALENDAR