BEGIN:VCALENDAR
VERSION:2.0
PRODID:-//eventon.com NONSGML v1.0//EN
CALSCALE:GREGORIAN
METHOD:PUBLISH
BEGIN:VEVENT
UID:69ea2b04d6beb
DTSTAMP:20260423T142156Z
DTSTART:20260424T210000Z
DTEND:20260424T235900Z
LOCATION:Capolinea Birreria Bistrot Via Andrea D'Oria\,  20\,  10073 Ciriè TO
SUMMARY:BONE RATTLER - LIVE CAPOLINEA
DESCRIPTION:BONE RATTLER Live Venerdi 24 Aprile 2026 al CAPOLINEA in Via An
 drea D&#8217;Oria\,  20\,  10073 Ciriè (TO). Musica Live Torino Genere: Ro
 ck Experience\nhttps://bandtop.it/events/bone-rattler-live-capolinea/
URL:https://bandtop.it/events/bone-rattler-live-capolinea/
END:VEVENT
END:VCALENDAR