BEGIN:VCALENDAR
VERSION:2.0
PRODID:-//eventon.com NONSGML v1.0//EN
CALSCALE:GREGORIAN
METHOD:PUBLISH
BEGIN:VEVENT
UID:69ecf2dfb40f4
DTSTAMP:20260425T165911Z
DTSTART:20260410T220000Z
DTEND:20260410T235900Z
LOCATION:The Live Via Stazione\,  115\,  21020 Mornago VA
SUMMARY:DARK SIDES - LIVE THE LIVE
DESCRIPTION:DARK SIDES Tributo Pink Floyd Live Venerdi 10 Aprile 2026  al 
 THE LIVE in Via Stazione\,  115\,  21020 Mornago (VA). Ingresso 15€ – d
 rink incluso EVENTO: MUSICA LIVE VARESE GENERE: Pink Floyd\nhttps://bandtop
 .it/events/dark-sides-live-the-live/
URL:https://bandtop.it/events/dark-sides-live-the-live/
END:VEVENT
END:VCALENDAR