BEGIN:VCALENDAR
VERSION:2.0
PRODID:-//eventon.com NONSGML v1.0//EN
CALSCALE:GREGORIAN
METHOD:PUBLISH
BEGIN:VEVENT
UID:69ea39b6ba3ba
DTSTAMP:20260423T152438Z
DTSTART:20251227T223000Z
DTEND:20251227T010000Z
LOCATION:SLAUGHTER CLUB Via Angelo Tagliabue\,  4\,  20037 Paderno Dugnano MI
SUMMARY:NECRODEATH Open ABBINORMAL - LIVE SLAUGHTER CLUB
DESCRIPTION:NECRODEATH Special Guest Andy Panigada e Manu dei BULLDOZER ins
 ieme a Tony Dolan dei VENOM Inc Live Sabato 270Dicembre 2025 allo SLAUGHTER
  CLUB in Via Angelo Tagliabue\,  4\,  20037 Paderno Dugnano (MI). Open ABBI
 NORMAL BIGLIETTI 15€ in cassa INGRESSO CON TESSERA ACSI\nhttps://bandtop.
 it/events/necrodeath-open-abbinormal-live-slaughter-club/
URL:https://bandtop.it/events/necrodeath-open-abbinormal-live-slaughter-club/
END:VEVENT
END:VCALENDAR