BEGIN:VCALENDAR
VERSION:2.0
PRODID:-//eventon.com NONSGML v1.0//EN
CALSCALE:GREGORIAN
METHOD:PUBLISH
BEGIN:VEVENT
UID:69ea4cb7be519
DTSTAMP:20260423T164543Z
DTSTART:20251108T210000Z
DTEND:20251109T050000Z
LOCATION:SLAUGHTER CLUB Via Angelo Tagliabue\,  4\,  20037 Paderno Dugnano MI
SUMMARY:JAM SESSION BENEFICENZA - LIVE SLAUGHTER CLUB
DESCRIPTION:JAM SESSION BENEFICENZA Live Sabato 8 Novembre 2025 allo SLAUGH
 TER CLUB in Via Angelo Tagliabue\,  4\,  20037 Paderno Dugnano (MI). 19.00 
 APERTURA PORTE 21.00 INIZIO SHOW 5€\,  vi verrà consegnato il biglietto 
 per partecipare all&#8217;estrazione a premi. Il ricavato della serata verr
 à devoluto all&#8217;ente Make-A-Wish Italia che si occupa di[..]\nhttps:/
 /bandtop.it/events/jam-session-beneficenza-live-slaughter-club/
URL:https://bandtop.it/events/jam-session-beneficenza-live-slaughter-club/
END:VEVENT
END:VCALENDAR