BEGIN:VCALENDAR
VERSION:2.0
PRODID:-//eventon.com NONSGML v1.0//EN
CALSCALE:GREGORIAN
METHOD:PUBLISH
BEGIN:VEVENT
UID:69e88762329b9
DTSTAMP:20260422T083130Z
DTSTART:20250704T210000Z
DTEND:20250704T235900Z
LOCATION:PIAZZA RIGOTTI BOGOGNO via Marconi\,  1\,  28010 Bogogno ( NO)
SUMMARY:TATTICI DELLO ZEN - LIVE BOGOGNO SUMMER FEST
DESCRIPTION:TATTICI DELLO ZEN Tributo Pinguini Tattici Nucleari Live Venerd
 i 4 Luglio 2025 allo BOGOGNO SUMMER FEST   in Tendone Piazza Rigotti\,  v
 ia Marconi\,  1 Bogogno (NO).\nhttps://bandtop.it/events/tattici-dello-zen-
 live-bogogno-summer-fest/
URL:https://bandtop.it/events/tattici-dello-zen-live-bogogno-summer-fest/
END:VEVENT
END:VCALENDAR