BEGIN:VCALENDAR
VERSION:2.0
PRODID:-//eventon.com NONSGML v1.0//EN
CALSCALE:GREGORIAN
METHOD:PUBLISH
BEGIN:VEVENT
UID:69eb919775ea5
DTSTAMP:20260424T155151Z
DTSTART:20250531T220000Z
DTEND:20250531T235900Z
LOCATION:UFO Via dell'Industria\,  4\,  24030 Mozzo BG
SUMMARY:SANDS OF TIME + PUSHBLADDER - LIVE UFO
DESCRIPTION:SANDS OF TIME Iron Maiden Tribute + PUSHBLADDER (Metallica\,  P
 antera e altro )Live Sabato 31 Maggio 2025 all&#8217; UFO in Via dell&#8217
 ;Industria\,  4\,  24030 Mozzo (BG).\nhttps://bandtop.it/events/sands-of-ti
 me-pushbladder-live-ufo/
URL:https://bandtop.it/events/sands-of-time-pushbladder-live-ufo/
END:VEVENT
END:VCALENDAR