BEGIN:VCALENDAR
VERSION:2.0
PRODID:-//eventon.com NONSGML v1.0//EN
CALSCALE:GREGORIAN
METHOD:PUBLISH
BEGIN:VEVENT
UID:69eb91699a0eb
DTSTAMP:20260424T155105Z
DTSTART:20250524T210000Z
DTEND:20250524T235900Z
LOCATION:UFO Via dell'Industria\,  4\,  24030 Mozzo BG
SUMMARY:ULVEDHARR + BLOOD OFFER + VULTU - LIVE UFO
DESCRIPTION:ULVEDHARR + BLOOD OFFER + VULTU Live Sabato 24 Maggio 2025 all&
 #8217; UFO in Via dell&#8217;Industria\,  4\,  24030 Mozzo (BG).\nhttps://b
 andtop.it/events/ulvedharr-blood-offer-vultu-live-ufo/
URL:https://bandtop.it/events/ulvedharr-blood-offer-vultu-live-ufo/
END:VEVENT
END:VCALENDAR