BEGIN:VCALENDAR
VERSION:2.0
PRODID:-//eventon.com NONSGML v1.0//EN
CALSCALE:GREGORIAN
METHOD:PUBLISH
BEGIN:VEVENT
UID:69eb919774532
DTSTAMP:20260424T155151Z
DTSTART:20250523T220000Z
DTEND:20250523T235900Z
LOCATION:UFO Via dell'Industria\,  4\,  24030 Mozzo BG
SUMMARY:REDARMADA - LIVE UFO
DESCRIPTION:REDARMADA Live Venerdi 23 Maggio 2025 all&#8217; UFO in Via del
 l&#8217;Industria\,  4\,  24030 Mozzo (BG). Un viaggio nel tempo che ti far
 à ballare senza sosta\,  dalla musica più moderna degli anni 2020 fino ai
  leggendari anni &#8217;70. Con il funky\,  la dance e le vibrazioni più c
 ool\,  ogni decennio avrà[..]\nhttps://bandtop.it/events/redarmada-live-uf
 o/
URL:https://bandtop.it/events/redarmada-live-ufo/
END:VEVENT
END:VCALENDAR