BEGIN:VCALENDAR
VERSION:2.0
PRODID:-//eventon.com NONSGML v1.0//EN
CALSCALE:GREGORIAN
METHOD:PUBLISH
BEGIN:VEVENT
UID:69eb96200d2ad
DTSTAMP:20260424T161112Z
DTSTART:20250517T210000Z
DTEND:20250517T235900Z
LOCATION:UFO Via dell'Industria\,  4\,  24030 Mozzo BG
SUMMARY:CROSSLANE + THE xWRLD + LONA - LIVE UFO
DESCRIPTION:CROSSLANE + THE xWRLD + LONA Live Sabato 17 Maggio 2025 all&#82
 17; UFO in Via dell&#8217;Industria\,  4\,  24030 Mozzo (BG). Una serata fu
 ori dagli schemi\,  dove l’underground incontra l’energia pura del palc
 o.3 band\,  3 mondi diversi\,  un’unica vibrazione: SUONARE FORTE.\nhttps
 ://bandtop.it/events/crosslane-the-xwrld-lona-live-ufo/
URL:https://bandtop.it/events/crosslane-the-xwrld-lona-live-ufo/
END:VEVENT
END:VCALENDAR