BEGIN:VCALENDAR
VERSION:2.0
PRODID:-//eventon.com NONSGML v1.0//EN
CALSCALE:GREGORIAN
METHOD:PUBLISH
BEGIN:VEVENT
UID:69eb919d6fa95
DTSTAMP:20260424T155157Z
DTSTART:20250516T220000Z
DTEND:20250516T235900Z
LOCATION:UFO Via dell'Industria\,  4\,  24030 Mozzo BG
SUMMARY:SEHNSUCHT - LIVE UFO
DESCRIPTION:SEHNSUCHT  Rammstein tribute Live Venerdi 16 Maggio 2025 al UF
 O in Via dell&#8217;Industria\,  4\,  24030 Mozzo (BG).\nhttps://bandtop.it
 /events/sehnsucht-live-ufo/
URL:https://bandtop.it/events/sehnsucht-live-ufo/
END:VEVENT
END:VCALENDAR