BEGIN:VCALENDAR
VERSION:2.0
PRODID:-//eventon.com NONSGML v1.0//EN
CALSCALE:GREGORIAN
METHOD:PUBLISH
BEGIN:VEVENT
UID:69ebad0ec8846
DTSTAMP:20260424T174902Z
DTSTART:20250517T223000Z
DTEND:20250518T013000Z
LOCATION:VHS - Retrò Club Via IV Novembre\,  13\,  50018 Scandicci FI
SUMMARY:RAMMZEIGT + KORN ALIVE - LIVE VHS Retro Club
DESCRIPTION:RAMMZEIGT Rammstein Tribute + KORN ALIVE Korn Tribute Live Saba
 to 17 Maggio 2025 al VHS Retro Club in Via IV Novembre\,  13\,  50018 Scand
 icci (FI). Contributo artistico €5 La Tessera ACSI può essere sottoscrit
 ta ONLINE al Link https://entro.in/vhsretroLa tessera ACSI sarà assegnata 
 in loco al costo di € 10 (mostrando[..]\nhttps://bandtop.it/events/rammze
 igt-korn-alive-live-vhs-retro-club/
URL:https://bandtop.it/events/rammzeigt-korn-alive-live-vhs-retro-club/
END:VEVENT
END:VCALENDAR