BEGIN:VCALENDAR
VERSION:2.0
PRODID:-//eventon.com NONSGML v1.0//EN
CALSCALE:GREGORIAN
METHOD:PUBLISH
BEGIN:VEVENT
UID:69ebc2fcdda48
DTSTAMP:20260424T192236Z
DTSTART:20250516T213000Z
DTEND:20250516T233000Z
LOCATION:KUSTOM ROSTER GARAGE Via Enrico Fermi\,  9\,  27019 Villanterio PV
SUMMARY:KORN ALIVE - LIVE KUSTOM ROOSTER GARAGE
DESCRIPTION:KORN ALIVE Live Venerdi 16 Maggio 2025 al KUSTOM ROOSTER GARAGE
  in Via Enrico Fermi\,  9\,  27019 Villanterio (PV).\nhttps://bandtop.it/ev
 ents/korn-alive-live-kustom-rooster-garage/
URL:https://bandtop.it/events/korn-alive-live-kustom-rooster-garage/
END:VEVENT
END:VCALENDAR